Workbook

Sheet Calculator
B1: Gas Equation of State Calculator
B2: =HYPERLINK("https://www.multicalci.com/","www.multicalci.com") -> www.multicalci.com
B3: Z-factor, density, fugacity and phase state of a pure gas or a gas mixture (up to 12 components): ideal gas, van der Waals, SRK and Peng-Robinson.
B5: Yellow cells are inputs. Pure gas: enter one component. Mixture: enter up to 12 components. All other cells are calculated.
B7: Equation of state and operating conditions
B8: Equation of state | C8: Peng-Robinson | E8: Peng-Robinson, SRK or van der Waals. Used for the results below; for a pure gas all models are also compared further down.
B9: Temperature | C9: 76.85 | D9: °C | E9: Unit: °C, K or °F
B10: Pressure (absolute) | C10: 100 | D10: bar | E10: Unit: bar, kPa, MPa, psia, atm or kg/cm² (absolute pressure)
B11: Amount n | C11: 1 | D11: mol
B13: Gas composition (1 to 12 components)
B14: Pure gas: select the gas in row 1 and enter any amount. Mixture: select the components and enter the amounts in mol % (amounts are normalised). Leave unused rows blank. For a component not in the list, type its name and enter Tc, Pc, ω and M in the custom columns.
D15: Custom properties (optional, override the database) | H15: Used in the calculation
A16: No. | B16: Component | C16: Amount (mol %) | D16: Tc (K) | E16: Pc (bar) | F16: ω | G16: M (g/mol) | H16: Tc (K) | I16: Pc (bar) | J16: ω | K16: M (g/mol) | L16: Mole fraction z | M16: Status
A17: 1 | B17: Methane (CH4) | C17: 100 | H17: =IF(ISNUMBER(D17),D17,IFERROR(INDEX('Gas data'!$D$5:$D$131,MATCH($B17,'Gas data'!$B$5:$B$131,0)),"")) -> 190.56 | I17: =IF(ISNUMBER(E17),E17,IFERROR(INDEX('Gas data'!$E$5:$E$131,MATCH($B17,'Gas data'!$B$5:$B$131,0)),"")) -> 46.1 | J17: =IF(ISNUMBER(F17),F17,IFERROR(INDEX('Gas data'!$F$5:$F$131,MATCH($B17,'Gas data'!$B$5:$B$131,0)),"")) -> 0.0115 | K17: =IF(ISNUMBER(G17),G17,IFERROR(INDEX('Gas data'!$G$5:$G$131,MATCH($B17,'Gas data'!$B$5:$B$131,0)),"")) -> 16.043 | L17: =IF(M17="OK",C17/SUMIF($M$17:$M$28,"OK",$C$17:$C$28),0) -> 1 | M17: =IF(AND(B17="",C17=""),"",IF(NOT(ISNUMBER(C17)),"enter the amount as a number",IF(C17<0,"amount cannot be negative",IF(C17=0,"",IF(NOT(AND(ISNUMBER(H17),ISNUMBER(I17),ISNUMBER(J17),ISNUMBER(K17))),"not in the list - enter the four custom values",IF(OR(H17<=0,I17<=0,K17<1),"Tc and Pc must be positive, M at least 1",IF(OR(J17<-1,J17>2),"acentric factor must lie between -1 and 2","OK"))))))) -> OK
A18: 2 | H18: =IF(ISNUMBER(D18),D18,IFERROR(INDEX('Gas data'!$D$5:$D$131,MATCH($B18,'Gas data'!$B$5:$B$131,0)),"")) | I18: =IF(ISNUMBER(E18),E18,IFERROR(INDEX('Gas data'!$E$5:$E$131,MATCH($B18,'Gas data'!$B$5:$B$131,0)),"")) | J18: =IF(ISNUMBER(F18),F18,IFERROR(INDEX('Gas data'!$F$5:$F$131,MATCH($B18,'Gas data'!$B$5:$B$131,0)),"")) | K18: =IF(ISNUMBER(G18),G18,IFERROR(INDEX('Gas data'!$G$5:$G$131,MATCH($B18,'Gas data'!$B$5:$B$131,0)),"")) | L18: =IF(M18="OK",C18/SUMIF($M$17:$M$28,"OK",$C$17:$C$28),0) -> 0 | M18: =IF(AND(B18="",C18=""),"",IF(NOT(ISNUMBER(C18)),"enter the amount as a number",IF(C18<0,"amount cannot be negative",IF(C18=0,"",IF(NOT(AND(ISNUMBER(H18),ISNUMBER(I18),ISNUMBER(J18),ISNUMBER(K18))),"not in the list - enter the four custom values",IF(OR(H18<=0,I18<=0,K18<1),"Tc and Pc must be positive, M at least 1",IF(OR(J18<-1,J18>2),"acentric factor must lie between -1 and 2","OK")))))))
A19: 3 | H19: =IF(ISNUMBER(D19),D19,IFERROR(INDEX('Gas data'!$D$5:$D$131,MATCH($B19,'Gas data'!$B$5:$B$131,0)),"")) | I19: =IF(ISNUMBER(E19),E19,IFERROR(INDEX('Gas data'!$E$5:$E$131,MATCH($B19,'Gas data'!$B$5:$B$131,0)),"")) | J19: =IF(ISNUMBER(F19),F19,IFERROR(INDEX('Gas data'!$F$5:$F$131,MATCH($B19,'Gas data'!$B$5:$B$131,0)),"")) | K19: =IF(ISNUMBER(G19),G19,IFERROR(INDEX('Gas data'!$G$5:$G$131,MATCH($B19,'Gas data'!$B$5:$B$131,0)),"")) | L19: =IF(M19="OK",C19/SUMIF($M$17:$M$28,"OK",$C$17:$C$28),0) -> 0 | M19: =IF(AND(B19="",C19=""),"",IF(NOT(ISNUMBER(C19)),"enter the amount as a number",IF(C19<0,"amount cannot be negative",IF(C19=0,"",IF(NOT(AND(ISNUMBER(H19),ISNUMBER(I19),ISNUMBER(J19),ISNUMBER(K19))),"not in the list - enter the four custom values",IF(OR(H19<=0,I19<=0,K19<1),"Tc and Pc must be positive, M at least 1",IF(OR(J19<-1,J19>2),"acentric factor must lie between -1 and 2","OK")))))))
A20: 4 | H20: =IF(ISNUMBER(D20),D20,IFERROR(INDEX('Gas data'!$D$5:$D$131,MATCH($B20,'Gas data'!$B$5:$B$131,0)),"")) | I20: =IF(ISNUMBER(E20),E20,IFERROR(INDEX('Gas data'!$E$5:$E$131,MATCH($B20,'Gas data'!$B$5:$B$131,0)),"")) | J20: =IF(ISNUMBER(F20),F20,IFERROR(INDEX('Gas data'!$F$5:$F$131,MATCH($B20,'Gas data'!$B$5:$B$131,0)),"")) | K20: =IF(ISNUMBER(G20),G20,IFERROR(INDEX('Gas data'!$G$5:$G$131,MATCH($B20,'Gas data'!$B$5:$B$131,0)),"")) | L20: =IF(M20="OK",C20/SUMIF($M$17:$M$28,"OK",$C$17:$C$28),0) -> 0 | M20: =IF(AND(B20="",C20=""),"",IF(NOT(ISNUMBER(C20)),"enter the amount as a number",IF(C20<0,"amount cannot be negative",IF(C20=0,"",IF(NOT(AND(ISNUMBER(H20),ISNUMBER(I20),ISNUMBER(J20),ISNUMBER(K20))),"not in the list - enter the four custom values",IF(OR(H20<=0,I20<=0,K20<1),"Tc and Pc must be positive, M at least 1",IF(OR(J20<-1,J20>2),"acentric factor must lie between -1 and 2","OK")))))))
A21: 5 | H21: =IF(ISNUMBER(D21),D21,IFERROR(INDEX('Gas data'!$D$5:$D$131,MATCH($B21,'Gas data'!$B$5:$B$131,0)),"")) | I21: =IF(ISNUMBER(E21),E21,IFERROR(INDEX('Gas data'!$E$5:$E$131,MATCH($B21,'Gas data'!$B$5:$B$131,0)),"")) | J21: =IF(ISNUMBER(F21),F21,IFERROR(INDEX('Gas data'!$F$5:$F$131,MATCH($B21,'Gas data'!$B$5:$B$131,0)),"")) | K21: =IF(ISNUMBER(G21),G21,IFERROR(INDEX('Gas data'!$G$5:$G$131,MATCH($B21,'Gas data'!$B$5:$B$131,0)),"")) | L21: =IF(M21="OK",C21/SUMIF($M$17:$M$28,"OK",$C$17:$C$28),0) -> 0 | M21: =IF(AND(B21="",C21=""),"",IF(NOT(ISNUMBER(C21)),"enter the amount as a number",IF(C21<0,"amount cannot be negative",IF(C21=0,"",IF(NOT(AND(ISNUMBER(H21),ISNUMBER(I21),ISNUMBER(J21),ISNUMBER(K21))),"not in the list - enter the four custom values",IF(OR(H21<=0,I21<=0,K21<1),"Tc and Pc must be positive, M at least 1",IF(OR(J21<-1,J21>2),"acentric factor must lie between -1 and 2","OK")))))))
A22: 6 | H22: =IF(ISNUMBER(D22),D22,IFERROR(INDEX('Gas data'!$D$5:$D$131,MATCH($B22,'Gas data'!$B$5:$B$131,0)),"")) | I22: =IF(ISNUMBER(E22),E22,IFERROR(INDEX('Gas data'!$E$5:$E$131,MATCH($B22,'Gas data'!$B$5:$B$131,0)),"")) | J22: =IF(ISNUMBER(F22),F22,IFERROR(INDEX('Gas data'!$F$5:$F$131,MATCH($B22,'Gas data'!$B$5:$B$131,0)),"")) | K22: =IF(ISNUMBER(G22),G22,IFERROR(INDEX('Gas data'!$G$5:$G$131,MATCH($B22,'Gas data'!$B$5:$B$131,0)),"")) | L22: =IF(M22="OK",C22/SUMIF($M$17:$M$28,"OK",$C$17:$C$28),0) -> 0 | M22: =IF(AND(B22="",C22=""),"",IF(NOT(ISNUMBER(C22)),"enter the amount as a number",IF(C22<0,"amount cannot be negative",IF(C22=0,"",IF(NOT(AND(ISNUMBER(H22),ISNUMBER(I22),ISNUMBER(J22),ISNUMBER(K22))),"not in the list - enter the four custom values",IF(OR(H22<=0,I22<=0,K22<1),"Tc and Pc must be positive, M at least 1",IF(OR(J22<-1,J22>2),"acentric factor must lie between -1 and 2","OK")))))))
A23: 7 | H23: =IF(ISNUMBER(D23),D23,IFERROR(INDEX('Gas data'!$D$5:$D$131,MATCH($B23,'Gas data'!$B$5:$B$131,0)),"")) | I23: =IF(ISNUMBER(E23),E23,IFERROR(INDEX('Gas data'!$E$5:$E$131,MATCH($B23,'Gas data'!$B$5:$B$131,0)),"")) | J23: =IF(ISNUMBER(F23),F23,IFERROR(INDEX('Gas data'!$F$5:$F$131,MATCH($B23,'Gas data'!$B$5:$B$131,0)),"")) | K23: =IF(ISNUMBER(G23),G23,IFERROR(INDEX('Gas data'!$G$5:$G$131,MATCH($B23,'Gas data'!$B$5:$B$131,0)),"")) | L23: =IF(M23="OK",C23/SUMIF($M$17:$M$28,"OK",$C$17:$C$28),0) -> 0 | M23: =IF(AND(B23="",C23=""),"",IF(NOT(ISNUMBER(C23)),"enter the amount as a number",IF(C23<0,"amount cannot be negative",IF(C23=0,"",IF(NOT(AND(ISNUMBER(H23),ISNUMBER(I23),ISNUMBER(J23),ISNUMBER(K23))),"not in the list - enter the four custom values",IF(OR(H23<=0,I23<=0,K23<1),"Tc and Pc must be positive, M at least 1",IF(OR(J23<-1,J23>2),"acentric factor must lie between -1 and 2","OK")))))))
A24: 8 | H24: =IF(ISNUMBER(D24),D24,IFERROR(INDEX('Gas data'!$D$5:$D$131,MATCH($B24,'Gas data'!$B$5:$B$131,0)),"")) | I24: =IF(ISNUMBER(E24),E24,IFERROR(INDEX('Gas data'!$E$5:$E$131,MATCH($B24,'Gas data'!$B$5:$B$131,0)),"")) | J24: =IF(ISNUMBER(F24),F24,IFERROR(INDEX('Gas data'!$F$5:$F$131,MATCH($B24,'Gas data'!$B$5:$B$131,0)),"")) | K24: =IF(ISNUMBER(G24),G24,IFERROR(INDEX('Gas data'!$G$5:$G$131,MATCH($B24,'Gas data'!$B$5:$B$131,0)),"")) | L24: =IF(M24="OK",C24/SUMIF($M$17:$M$28,"OK",$C$17:$C$28),0) -> 0 | M24: =IF(AND(B24="",C24=""),"",IF(NOT(ISNUMBER(C24)),"enter the amount as a number",IF(C24<0,"amount cannot be negative",IF(C24=0,"",IF(NOT(AND(ISNUMBER(H24),ISNUMBER(I24),ISNUMBER(J24),ISNUMBER(K24))),"not in the list - enter the four custom values",IF(OR(H24<=0,I24<=0,K24<1),"Tc and Pc must be positive, M at least 1",IF(OR(J24<-1,J24>2),"acentric factor must lie between -1 and 2","OK")))))))
A25: 9 | H25: =IF(ISNUMBER(D25),D25,IFERROR(INDEX('Gas data'!$D$5:$D$131,MATCH($B25,'Gas data'!$B$5:$B$131,0)),"")) | I25: =IF(ISNUMBER(E25),E25,IFERROR(INDEX('Gas data'!$E$5:$E$131,MATCH($B25,'Gas data'!$B$5:$B$131,0)),"")) | J25: =IF(ISNUMBER(F25),F25,IFERROR(INDEX('Gas data'!$F$5:$F$131,MATCH($B25,'Gas data'!$B$5:$B$131,0)),"")) | K25: =IF(ISNUMBER(G25),G25,IFERROR(INDEX('Gas data'!$G$5:$G$131,MATCH($B25,'Gas data'!$B$5:$B$131,0)),"")) | L25: =IF(M25="OK",C25/SUMIF($M$17:$M$28,"OK",$C$17:$C$28),0) -> 0 | M25: =IF(AND(B25="",C25=""),"",IF(NOT(ISNUMBER(C25)),"enter the amount as a number",IF(C25<0,"amount cannot be negative",IF(C25=0,"",IF(NOT(AND(ISNUMBER(H25),ISNUMBER(I25),ISNUMBER(J25),ISNUMBER(K25))),"not in the list - enter the four custom values",IF(OR(H25<=0,I25<=0,K25<1),"Tc and Pc must be positive, M at least 1",IF(OR(J25<-1,J25>2),"acentric factor must lie between -1 and 2","OK")))))))
A26: 10 | H26: =IF(ISNUMBER(D26),D26,IFERROR(INDEX('Gas data'!$D$5:$D$131,MATCH($B26,'Gas data'!$B$5:$B$131,0)),"")) | I26: =IF(ISNUMBER(E26),E26,IFERROR(INDEX('Gas data'!$E$5:$E$131,MATCH($B26,'Gas data'!$B$5:$B$131,0)),"")) | J26: =IF(ISNUMBER(F26),F26,IFERROR(INDEX('Gas data'!$F$5:$F$131,MATCH($B26,'Gas data'!$B$5:$B$131,0)),"")) | K26: =IF(ISNUMBER(G26),G26,IFERROR(INDEX('Gas data'!$G$5:$G$131,MATCH($B26,'Gas data'!$B$5:$B$131,0)),"")) | L26: =IF(M26="OK",C26/SUMIF($M$17:$M$28,"OK",$C$17:$C$28),0) -> 0 | M26: =IF(AND(B26="",C26=""),"",IF(NOT(ISNUMBER(C26)),"enter the amount as a number",IF(C26<0,"amount cannot be negative",IF(C26=0,"",IF(NOT(AND(ISNUMBER(H26),ISNUMBER(I26),ISNUMBER(J26),ISNUMBER(K26))),"not in the list - enter the four custom values",IF(OR(H26<=0,I26<=0,K26<1),"Tc and Pc must be positive, M at least 1",IF(OR(J26<-1,J26>2),"acentric factor must lie between -1 and 2","OK")))))))
A27: 11 | H27: =IF(ISNUMBER(D27),D27,IFERROR(INDEX('Gas data'!$D$5:$D$131,MATCH($B27,'Gas data'!$B$5:$B$131,0)),"")) | I27: =IF(ISNUMBER(E27),E27,IFERROR(INDEX('Gas data'!$E$5:$E$131,MATCH($B27,'Gas data'!$B$5:$B$131,0)),"")) | J27: =IF(ISNUMBER(F27),F27,IFERROR(INDEX('Gas data'!$F$5:$F$131,MATCH($B27,'Gas data'!$B$5:$B$131,0)),"")) | K27: =IF(ISNUMBER(G27),G27,IFERROR(INDEX('Gas data'!$G$5:$G$131,MATCH($B27,'Gas data'!$B$5:$B$131,0)),"")) | L27: =IF(M27="OK",C27/SUMIF($M$17:$M$28,"OK",$C$17:$C$28),0) -> 0 | M27: =IF(AND(B27="",C27=""),"",IF(NOT(ISNUMBER(C27)),"enter the amount as a number",IF(C27<0,"amount cannot be negative",IF(C27=0,"",IF(NOT(AND(ISNUMBER(H27),ISNUMBER(I27),ISNUMBER(J27),ISNUMBER(K27))),"not in the list - enter the four custom values",IF(OR(H27<=0,I27<=0,K27<1),"Tc and Pc must be positive, M at least 1",IF(OR(J27<-1,J27>2),"acentric factor must lie between -1 and 2","OK")))))))
A28: 12 | H28: =IF(ISNUMBER(D28),D28,IFERROR(INDEX('Gas data'!$D$5:$D$131,MATCH($B28,'Gas data'!$B$5:$B$131,0)),"")) | I28: =IF(ISNUMBER(E28),E28,IFERROR(INDEX('Gas data'!$E$5:$E$131,MATCH($B28,'Gas data'!$B$5:$B$131,0)),"")) | J28: =IF(ISNUMBER(F28),F28,IFERROR(INDEX('Gas data'!$F$5:$F$131,MATCH($B28,'Gas data'!$B$5:$B$131,0)),"")) | K28: =IF(ISNUMBER(G28),G28,IFERROR(INDEX('Gas data'!$G$5:$G$131,MATCH($B28,'Gas data'!$B$5:$B$131,0)),"")) | L28: =IF(M28="OK",C28/SUMIF($M$17:$M$28,"OK",$C$17:$C$28),0) -> 0 | M28: =IF(AND(B28="",C28=""),"",IF(NOT(ISNUMBER(C28)),"enter the amount as a number",IF(C28<0,"amount cannot be negative",IF(C28=0,"",IF(NOT(AND(ISNUMBER(H28),ISNUMBER(I28),ISNUMBER(J28),ISNUMBER(K28))),"not in the list - enter the four custom values",IF(OR(H28<=0,I28<=0,K28<1),"Tc and Pc must be positive, M at least 1",IF(OR(J28<-1,J28>2),"acentric factor must lie between -1 and 2","OK")))))))
B29: Total | C29: =SUM($C$17:$C$28) -> 100 | D29: Binary interaction parameters kij: sheet "Mixture kij" (optional, default 0). | L29: =SUM(L17:L28) -> 1
B31: State point
B32: Temperature T | C32: =IF(ISNUMBER(C9),IF(D9="K",C9,IF(D9="°F",(C9-32)*5/9+273.15,C9+273.15)),0) -> 350 | D32: K
B33: Pressure P | C33: =IF(ISNUMBER(C10),IFERROR(C10*INDEX('Gas data'!$K$5:$K$10,MATCH(D10,'Gas data'!$J$5:$J$10,0)),0),0) -> 10000000 | D33: Pa
B34: Number of components | C34: =SUMPRODUCT(--($M$17:$M$28="OK")) -> 1
B35: Molar mass M = Σ z·M | C35: =IF(M17="OK",L17*K17,0)+IF(M18="OK",L18*K18,0)+IF(M19="OK",L19*K19,0)+IF(M20="OK",L20*K20,0)+IF(M21="OK",L21*K21,0)+IF(M22="OK",L22*K22,0)+IF(M23="OK",L23*K23,0)+IF(M24="OK",L24*K24,0)+IF(M25="OK",L25*K25,0)+IF(M26="OK",L26*K26,0)+IF(M27="OK",L27*K27,0)+IF(M28="OK",L28*K28,0) -> 16.043 | D35: g/mol
B36: Reduced temperature T / Tc | C36: =IFERROR(C32/(IF(M17="OK",L17*H17,0)+IF(M18="OK",L18*H18,0)+IF(M19="OK",L19*H19,0)+IF(M20="OK",L20*H20,0)+IF(M21="OK",L21*H21,0)+IF(M22="OK",L22*H22,0)+IF(M23="OK",L23*H23,0)+IF(M24="OK",L24*H24,0)+IF(M25="OK",L25*H25,0)+IF(M26="OK",L26*H26,0)+IF(M27="OK",L27*H27,0)+IF(M28="OK",L28*H28,0)),0) -> 1.8366919 | D36: - | E36: Mixture: T / Σ z·Tc and P / Σ z·Pc (Kay's rule), given for reference only.
B37: Reduced pressure P / Pc | C37: =IFERROR(C33/(100000*(IF(M17="OK",L17*I17,0)+IF(M18="OK",L18*I18,0)+IF(M19="OK",L19*I19,0)+IF(M20="OK",L20*I20,0)+IF(M21="OK",L21*I21,0)+IF(M22="OK",L22*I22,0)+IF(M23="OK",L23*I23,0)+IF(M24="OK",L24*I24,0)+IF(M25="OK",L25*I25,0)+IF(M26="OK",L26*I26,0)+IF(M27="OK",L27*I27,0)+IF(M28="OK",L28*I28,0))),0) -> 2.1691974 | D37: -
B38: Input status | C38: =IF(SUMPRODUCT(--(LEN($M$17:$M$28)>2))>0,"Correct the component rows marked in the Status column",IF(C34<1,"Enter the amount of at least one component",IF(AND(C8<>"Peng-Robinson",C8<>"SRK",C8<>"van der Waals"),"Select the equation of state from the list",IF(NOT(ISNUMBER(C9)),"Enter a temperature",IF(C32<10,"Temperature must be at least 10 K",IF(NOT(ISNUMBER(C10)),"Enter a pressure",IF(C33<=0,"Pressure must be positive - enter absolute pressure, not gauge",IF(NOT(ISNUMBER(C11)),"Enter the amount n",IF(C11<=0,"Amount n must be positive",IF('Mixture kij'!$C$21<>"OK","kij values must lie between -1 and 1 (sheet Mixture kij)","OK")))))))))) -> OK
B40: Results (selected equation of state)
B41: Phase state | C41: =IF(NOT($C$38="OK"),"-",IF('Mixture steps'!$C$133=3,"PHASE SPLIT NOT CONVERGED - use the online calculator at www.multicalci.com for this point",IF('Mixture steps'!$C$133=2,IF('Mixture steps'!$C$152,"TWO LIQUID PHASES (model prediction, see note 5)","TWO PHASES - vapour + liquid"),IF($C$34=1,"ONE PHASE - "&LOWER('Mixture steps'!$C$153),IF('Mixture steps'!$C$152,"ONE PHASE - liquid (dense, liquid-like fluid)","ONE PHASE - gas / vapour"))))) -> ONE PHASE - supercritical
B43: Property | C43: Total | D43: =IF(AND($C$38="OK",'Mixture steps'!$C$133<>3),'Mixture steps'!$C$153,"Phase 1") -> Supercritical | E43: =IF(AND($C$38="OK",'Mixture steps'!$C$133=2),'Mixture steps'!$C$154,"Second phase") -> Second phase | F43: Unit
B44: Phase fraction, mole basis | C44: =IF(AND($C$38="OK",'Mixture steps'!$C$133<>3),100,"-") -> 100 | D44: =IF(AND($C$38="OK",'Mixture steps'!$C$133<>3),'Mixture steps'!$C$145*100,"-") -> 100 | E44: =IF(AND($C$38="OK",'Mixture steps'!$C$133=2),(1-'Mixture steps'!$C$145)*100,"-") -> - | F44: mol %
B45: Phase fraction, mass basis | C45: =IF(AND($C$38="OK",'Mixture steps'!$C$133<>3),100,"-") -> 100 | D45: =IF(AND($C$38="OK",'Mixture steps'!$C$133<>3),'Mixture steps'!$C$145*'Mixture steps'!$C$155/'Mixture steps'!$C$159*100,"-") -> 100 | E45: =IF(AND($C$38="OK",'Mixture steps'!$C$133=2),(1-'Mixture steps'!$C$145)*'Mixture steps'!$C$156/'Mixture steps'!$C$159*100,"-") -> - | F45: mass %
B46: Phase fraction, volume basis | C46: =IF(AND($C$38="OK",'Mixture steps'!$C$133<>3),100,"-") -> 100 | D46: =IF(AND($C$38="OK",'Mixture steps'!$C$133<>3),'Mixture steps'!$C$145*'Mixture steps'!$C$157/'Mixture steps'!$C$160*100,"-") -> 100 | E46: =IF(AND($C$38="OK",'Mixture steps'!$C$133=2),(1-'Mixture steps'!$C$145)*'Mixture steps'!$C$158/'Mixture steps'!$C$160*100,"-") -> - | F46: vol %
...

Sheet Mixture kij
A1: Gas Mixture - Binary Interaction Parameters kij
A2: =HYPERLINK("https://www.multicalci.com/","www.multicalci.com") -> www.multicalci.com
A3: Optional input. Blank cells are taken as kij = 0. Enter values in the yellow cells above the diagonal only; the lower half is mirrored. Valid range: −1 < kij < 1.
A5: No. | B5: Component | C5: 1 | D5: 2 | E5: 3 | F5: 4 | G5: 5 | H5: 6 | I5: 7 | J5: 8 | K5: 9 | L5: 10 | M5: 11 | N5: 12
A6: 1 | B6: =IF(Calculator!$B$17="","",Calculator!$B$17) -> Methane (CH4) | C6: 0
A7: 2 | B7: =IF(Calculator!$B$18="","",Calculator!$B$18) | C7: =IF(ISNUMBER(D6),D6,"") | D7: 0
A8: 3 | B8: =IF(Calculator!$B$19="","",Calculator!$B$19) | C8: =IF(ISNUMBER(E6),E6,"") | D8: =IF(ISNUMBER(E7),E7,"") | E8: 0
A9: 4 | B9: =IF(Calculator!$B$20="","",Calculator!$B$20) | C9: =IF(ISNUMBER(F6),F6,"") | D9: =IF(ISNUMBER(F7),F7,"") | E9: =IF(ISNUMBER(F8),F8,"") | F9: 0
A10: 5 | B10: =IF(Calculator!$B$21="","",Calculator!$B$21) | C10: =IF(ISNUMBER(G6),G6,"") | D10: =IF(ISNUMBER(G7),G7,"") | E10: =IF(ISNUMBER(G8),G8,"") | F10: =IF(ISNUMBER(G9),G9,"") | G10: 0
A11: 6 | B11: =IF(Calculator!$B$22="","",Calculator!$B$22) | C11: =IF(ISNUMBER(H6),H6,"") | D11: =IF(ISNUMBER(H7),H7,"") | E11: =IF(ISNUMBER(H8),H8,"") | F11: =IF(ISNUMBER(H9),H9,"") | G11: =IF(ISNUMBER(H10),H10,"") | H11: 0
A12: 7 | B12: =IF(Calculator!$B$23="","",Calculator!$B$23) | C12: =IF(ISNUMBER(I6),I6,"") | D12: =IF(ISNUMBER(I7),I7,"") | E12: =IF(ISNUMBER(I8),I8,"") | F12: =IF(ISNUMBER(I9),I9,"") | G12: =IF(ISNUMBER(I10),I10,"") | H12: =IF(ISNUMBER(I11),I11,"") | I12: 0
A13: 8 | B13: =IF(Calculator!$B$24="","",Calculator!$B$24) | C13: =IF(ISNUMBER(J6),J6,"") | D13: =IF(ISNUMBER(J7),J7,"") | E13: =IF(ISNUMBER(J8),J8,"") | F13: =IF(ISNUMBER(J9),J9,"") | G13: =IF(ISNUMBER(J10),J10,"") | H13: =IF(ISNUMBER(J11),J11,"") | I13: =IF(ISNUMBER(J12),J12,"") | J13: 0
A14: 9 | B14: =IF(Calculator!$B$25="","",Calculator!$B$25) | C14: =IF(ISNUMBER(K6),K6,"") | D14: =IF(ISNUMBER(K7),K7,"") | E14: =IF(ISNUMBER(K8),K8,"") | F14: =IF(ISNUMBER(K9),K9,"") | G14: =IF(ISNUMBER(K10),K10,"") | H14: =IF(ISNUMBER(K11),K11,"") | I14: =IF(ISNUMBER(K12),K12,"") | J14: =IF(ISNUMBER(K13),K13,"") | K14: 0
A15: 10 | B15: =IF(Calculator!$B$26="","",Calculator!$B$26) | C15: =IF(ISNUMBER(L6),L6,"") | D15: =IF(ISNUMBER(L7),L7,"") | E15: =IF(ISNUMBER(L8),L8,"") | F15: =IF(ISNUMBER(L9),L9,"") | G15: =IF(ISNUMBER(L10),L10,"") | H15: =IF(ISNUMBER(L11),L11,"") | I15: =IF(ISNUMBER(L12),L12,"") | J15: =IF(ISNUMBER(L13),L13,"") | K15: =IF(ISNUMBER(L14),L14,"") | L15: 0
A16: 11 | B16: =IF(Calculator!$B$27="","",Calculator!$B$27) | C16: =IF(ISNUMBER(M6),M6,"") | D16: =IF(ISNUMBER(M7),M7,"") | E16: =IF(ISNUMBER(M8),M8,"") | F16: =IF(ISNUMBER(M9),M9,"") | G16: =IF(ISNUMBER(M10),M10,"") | H16: =IF(ISNUMBER(M11),M11,"") | I16: =IF(ISNUMBER(M12),M12,"") | J16: =IF(ISNUMBER(M13),M13,"") | K16: =IF(ISNUMBER(M14),M14,"") | L16: =IF(ISNUMBER(M15),M15,"") | M16: 0
A17: 12 | B17: =IF(Calculator!$B$28="","",Calculator!$B$28) | C17: =IF(ISNUMBER(N6),N6,"") | D17: =IF(ISNUMBER(N7),N7,"") | E17: =IF(ISNUMBER(N8),N8,"") | F17: =IF(ISNUMBER(N9),N9,"") | G17: =IF(ISNUMBER(N10),N10,"") | H17: =IF(ISNUMBER(N11),N11,"") | I17: =IF(ISNUMBER(N12),N12,"") | J17: =IF(ISNUMBER(N13),N13,"") | K17: =IF(ISNUMBER(N14),N14,"") | L17: =IF(ISNUMBER(N15),N15,"") | M17: =IF(ISNUMBER(N16),N16,"") | N17: 0
A20: Mixing rule: a = Σ Σ xi·xj·(1 − kij)·√(ai·aj). kij has little effect on gas-phase Z; dew points, bubble points and phase compositions can shift noticeably.
A21: Status | C21: =IF(COUNTIF($C$6:$N$17,">=1")+COUNTIF($C$6:$N$17,"<=-1")>0,"out of range","OK") -> OK
A22: Typical Peng-Robinson values: CO2 - hydrocarbon 0.10 to 0.15; N2 - CH4 about 0.03; H2S - hydrocarbon 0.05 to 0.10. Use values fitted to the selected equation of state.

Sheet EOS steps
A1: Pure Gas - Calculation Steps
A2: =HYPERLINK("https://www.multicalci.com/","www.multicalci.com") -> www.multicalci.com
A3: Pure gas (one component on the Calculator sheet): one calculation step per row for the three cubic models. Column H gives the formula in standard notation. With more than one component this sheet is not used in the results (see sheet "Mixture steps").
A5: Step | B5: Quantity | C5: Symbol | D5: van der Waals | E5: SRK | F5: Peng-Robinson | G5: Unit | H5: Formula / source
A6: Input data (from sheet "Calculator"; component properties are Σ z·value, i.e. the value of the gas when one component is entered)
A7: 1 | B7: Temperature | C7: T | D7: =Calculator!$C$32 -> 350 | E7: =Calculator!$C$32 -> 350 | F7: =Calculator!$C$32 -> 350 | G7: K | H7: from Calculator
A8: 2 | B8: Pressure (absolute) | C8: P | D8: =Calculator!$C$33 -> 10000000 | E8: =Calculator!$C$33 -> 10000000 | F8: =Calculator!$C$33 -> 10000000 | G8: Pa | H8: from Calculator
A9: 3 | B9: Critical temperature | C9: Tc | D9: =SUMPRODUCT(Calculator!$L$17:$L$28,Calculator!$H$17:$H$28) -> 190.56 | E9: =SUMPRODUCT(Calculator!$L$17:$L$28,Calculator!$H$17:$H$28) -> 190.56 | F9: =SUMPRODUCT(Calculator!$L$17:$L$28,Calculator!$H$17:$H$28) -> 190.56 | G9: K | H9: Σ z·Tc
A10: 4 | B10: Critical pressure | C10: Pc | D10: =SUMPRODUCT(Calculator!$L$17:$L$28,Calculator!$I$17:$I$28)*100000 -> 4610000 | E10: =SUMPRODUCT(Calculator!$L$17:$L$28,Calculator!$I$17:$I$28)*100000 -> 4610000 | F10: =SUMPRODUCT(Calculator!$L$17:$L$28,Calculator!$I$17:$I$28)*100000 -> 4610000 | G10: Pa | H10: Σ z·Pc, bar × 100 000
A11: 5 | B11: Acentric factor | C11: ω | D11: =SUMPRODUCT(Calculator!$L$17:$L$28,Calculator!$J$17:$J$28) -> 0.0115 | E11: =SUMPRODUCT(Calculator!$L$17:$L$28,Calculator!$J$17:$J$28) -> 0.0115 | F11: =SUMPRODUCT(Calculator!$L$17:$L$28,Calculator!$J$17:$J$28) -> 0.0115 | G11: - | H11: Σ z·ω (not used by van der Waals)
A12: 6 | B12: Molar mass | C12: M | D12: =SUMPRODUCT(Calculator!$L$17:$L$28,Calculator!$K$17:$K$28) -> 16.043 | E12: =SUMPRODUCT(Calculator!$L$17:$L$28,Calculator!$K$17:$K$28) -> 16.043 | F12: =SUMPRODUCT(Calculator!$L$17:$L$28,Calculator!$K$17:$K$28) -> 16.043 | G12: g/mol | H12: Σ z·M
A13: 7 | B13: Gas constant | C13: R | D13: 8.314462 | E13: 8.314462 | F13: 8.314462 | G13: J/(mol·K) | H13: constant: molar gas constant (CODATA 8.314462618, rounded)
A14: 8 | B14: Reduced temperature | C14: Tr | D14: =D7/D9 -> 1.8366919 | E14: =E7/E9 -> 1.8366919 | F14: =F7/F9 -> 1.8366919 | G14: - | H14: Tr = T / Tc
A15: EOS parameters
A16: 9 | B16: Attraction constant | C16: Ωa | D16: =27/64 -> 0.421875 | E16: 0.42748 | F16: 0.45724 | G16: - | H16: constants of each model: van der Waals 27/64, SRK 0.42748, PR 0.45724
A17: 10 | B17: Co-volume constant | C17: Ωb | D17: =1/8 -> 0.125 | E17: 0.08664 | F17: 0.0778 | G17: - | H17: constants of each model: van der Waals 1/8, SRK 0.08664, PR 0.07780
A18: 11 | B18: Critical compressibility of the model | C18: Zc | D18: =3/8 -> 0.375 | E18: =1/3 -> 0.33333333 | F18: 0.30740131 | G18: - | H18: constants: 3/8, 1/3, 0.3074 (follow from Ωa, Ωb of each model)
A19: 12 | B19: Slope of the α function | C19: m (SRK), κ (PR) | D19: 0 | E19: =0.48+1.574*E11-0.176*E11^2 -> 0.49807772 | F19: =IF(F11<=0.491,0.37464+1.54226*F11-0.26992*F11^2,0.379642+1.48503*F11-0.164423*F11^2+0.016666*F11^3) -> 0.39234029 | G19: - | H19: SRK (Soave 1972): m = 0.480 + 1.574ω − 0.176ω². PR (1976): κ = 0.37464 + 1.54226ω − 0.26992ω²; for ω > 0.491 (PR 1978): κ = 0.379642 + 1.48503ω − 0.164423ω² + 0.016666ω³
A20: 13 | B20: Temperature function | C20: α(T) | D20: 1 | E20: =MAX(0.000001,(1+E19*(1-SQRT(E14)))^2) -> 0.67742753 | F20: =MAX(0.000001,(1+F19*(1-SQRT(F14)))^2) -> 0.74067136 | G20: - | H20: α = [1 + m·(1 − √Tr)]² (van der Waals: α = 1)
A21: 14 | B21: Attraction parameter | C21: a·α | D21: =D16*D13^2*D9^2/D10*D20 -> 0.22972838 | E21: =E16*E13^2*E9^2/E10*E20 -> 0.15769194 | F21: =F16*F13^2*F9^2/F10*F20 -> 0.18441687 | G21: Pa·m⁶/mol² | H21: a·α = Ωa·R²·Tc² / Pc · α
A22: 15 | B22: Co-volume | C22: b | D22: =D17*D13*D9/D10 -> 4.296106e-05 | E22: =E17*E13*E9/E10 -> 2.977717e-05 | F22: =F17*F13*F9/F10 -> 2.6738964e-05 | G22: m³/mol | H22: b = Ωb·R·Tc / Pc
A23: 16 | B23: Dimensionless attraction | C23: A | D23: =D21*D8/(D13*D7)^2 -> 0.27127531 | E23: =E21*E8/(E13*E7)^2 -> 0.18621091 | F23: =F21*F8/(F13*F7)^2 -> 0.21776909 | G23: - | H23: A = a·α·P / (R·T)²
A24: 17 | B24: Dimensionless co-volume | C24: B | D24: =D22*D8/(D13*D7) -> 0.14762938 | E24: =E22*E8/(E13*E7) -> 0.10232487 | F24: =F22*F8/(F13*F7) -> 0.091884524 | G24: - | H24: B = b·P / (R·T)
A25: Cubic equation Z³ + c2·Z² + c1·Z + c0 = 0
A26: 18 | B26: Coefficient of Z² | C26: c2 | D26: =-(1+D24) -> -1.1476294 | E26: -1 | F26: =-(1-F24) -> -0.90811548 | G26: - | H26: vdW: −(1+B) SRK: −1 PR: −(1−B)
A27: 19 | B27: Coefficient of Z | C27: c1 | D27: =D23 -> 0.27127531 | E27: =E23-E24-E24^2 -> 0.073415653 | F27: =F23-3*F24^2-2*F24 -> 0.008671748 | G27: - | H27: vdW: A SRK: A − B − B² PR: A − 3B² − 2B
A28: 20 | B28: Constant term | C28: c0 | D28: =-D23*D24 -> -0.040048205 | E28: =-E23*E24 -> -0.019054008 | F28: =-(F23*F24-F24^2-F24^3) -> -0.010791084 | G28: - | H28: vdW: −A·B SRK: −A·B PR: −(A·B − B² − B³)
A29: First root: analytical solution of the cubic
A30: 21 | B30: Depressed cubic t³ + p·t + q = 0 | C30: p | D30: =D27-D26^2/3 -> -0.16774242 | E30: =E27-E26^2/3 -> -0.25991768 | F30: =F27-F26^2/3 -> -0.26621949 | G30: - | H30: p = c1 − c2²/3 (Z = t − c2/3)
A31: 22 | C31: q | D31: =2*D26^3/27-D26*D27/3+D28 -> -0.048235844 | E31: =2*E26^3/27-E26*E27/3+E28 -> -0.068656197 | F31: =2*F26^3/27-F26*F27/3+F28 -> -0.063640099 | G31: - | H31: q = 2·c2³/27 − c2·c1/3 + c0
A32: 23 | B32: Discriminant | C32: D | D32: =D31^2/4+D30^3/27 -> 0.00040686468 | E32: =E31^2/4+E30^3/27 -> 0.00052807351 | F32: =F31^2/4+F30^3/27 -> 0.0003137109 | G32: - | H32: D = q²/4 + p³/27 (D < 0: three real roots)
A33: 24 | B33: Cardano term (used when D ≥ 0) | C33: w | D33: =-D31/2-IF(D31>=0,1,-1)*SQRT(MAX(D32,0)) -> 0.044288809 | E33: =-E31/2-IF(E31>=0,1,-1)*SQRT(MAX(E32,0)) -> 0.057307949 | F33: =-F31/2-IF(F31>=0,1,-1)*SQRT(MAX(F32,0)) -> 0.049531935 | G33: - | H33: w = −q/2 − sign(q)·√D
A34: 25 | C34: u | D34: =SIGN(D33)*ABS(D33)^(1/3) -> 0.35380557 | E34: =SIGN(E33)*ABS(E33)^(1/3) -> 0.38554193 | F34: =SIGN(F33)*ABS(F33)^(1/3) -> 0.36724997 | G34: - | H34: u = ∛w
A35: 26 | C35: t | D35: =IF(D34=0,0,D34-D30/(3*D34)) -> 0.51184192 | E35: =IF(E34=0,0,E34-E30/(3*E34)) -> 0.61026257 | F35: =IF(F34=0,0,F34-F30/(3*F34)) -> 0.60888329 | G35: - | H35: t = u − p/(3u)
A36: 27 | B36: Trigonometric term (used when D < 0) | C36: r | D36: =2*SQRT(MAX(-D30,0)/3) -> 0.47292342 | E36: =2*SQRT(MAX(-E30,0)/3) -> 0.58869084 | F36: =2*SQRT(MAX(-F30,0)/3) -> 0.59578463 | G36: - | H36: r = 2·√(−p/3)
A37: 28 | C37: θ | D37: =ACOS(IF(D36=0,0,MAX(-1,MIN(1,3*D31/(D30*D36))))) -> 0 | E37: =ACOS(IF(E36=0,0,MAX(-1,MIN(1,3*E31/(E30*E36))))) -> 0 | F37: =ACOS(IF(F36=0,0,MAX(-1,MIN(1,3*F31/(F30*F36))))) -> 0 | G37: rad | H37: θ = arccos(3q / (p·r))
A38: 29 | C38: t | D38: =D36*COS(D37/3) -> 0.47292342 | E38: =E36*COS(E37/3) -> 0.58869084 | F38: =F36*COS(F37/3) -> 0.59578463 | G38: - | H38: t = r·cos(θ/3) (largest of the three)
A39: 30 | B39: First root, closed form | C39: Z₁ | D39: =IF(D32<0,D38,D35)-D26/3 -> 0.89438504 | E39: =IF(E32<0,E38,E35)-E26/3 -> 0.9435959 | F39: =IF(F32<0,F38,F35)-F26/3 -> 0.91158845 | G39: - | H39: Z₁ = t − c2/3
A40: 31 | B40: Newton correction 1 | C40: δ | D40: =IFERROR((((D39+D26)*D39+D27)*D39+D28)/((3*D39+2*D26)*D39+D27),0) -> 0 | E40: =IFERROR((((E39+E26)*E39+E27)*E39+E28)/((3*E39+2*E26)*E39+E27),0) -> -1.5377615e-16 | F40: =IFERROR((((F39+F26)*F39+F27)*F39+F28)/((3*F39+2*F26)*F39+F27),0) -> 0 | G40: - | H40: δ = f(Z)/f'(Z), f = Z³+c2·Z²+c1·Z+c0, f' = 3Z²+2·c2·Z+c1
A41: 32 | C41: Z₁ | D41: =IF(ABS(D40)<0.1*ABS(D39),D39-D40,D39) -> 0.89438504 | E41: =IF(ABS(E40)<0.1*ABS(E39),E39-E40,E39) -> 0.9435959 | F41: =IF(ABS(F40)<0.1*ABS(F39),F39-F40,F39) -> 0.91158845 | G41: - | H41: Z₁ = Z₁ − δ (removes rounding error of the closed form)
...

Sheet Psat
A1: Pure Gas - Saturation Pressure Iteration
A2: =HYPERLINK("https://www.multicalci.com/","www.multicalci.com") -> www.multicalci.com
A3: Saturation pressure Psat(T): the pressure at which liquid and vapour have equal fugacity. Solved row by row (no macro, no circular reference); the last row of each table is the result. Applicable for T < Tc.
A4: Update rule: ln P(new) = ln P + (ln φ_L − ln φ_V) / (Z_V − Z_L) (Newton iteration on ln P). The lower and upper limits bracket the solution between a vapour-stable and a liquid-stable pressure.
A6: Quantity | B6: Symbol | C6: van der Waals | D6: SRK | E6: Peng-Robinson | F6: Unit | G6: Formula / source
A7: Attraction parameter a·α | B7: a·α | C7: ='EOS steps'!$D$21 -> 0.22972838 | D7: ='EOS steps'!$E$21 -> 0.15769194 | E7: ='EOS steps'!$F$21 -> 0.18441687 | F7: Pa·m⁶/mol² | G7: from the EOS steps sheet
A8: Co-volume b | B8: b | C8: ='EOS steps'!$D$22 -> 4.296106e-05 | D8: ='EOS steps'!$E$22 -> 2.977717e-05 | E8: ='EOS steps'!$F$22 -> 2.6738964e-05 | F8: m³/mol | G8: from the EOS steps sheet
A9: Model's critical volume | B9: Vc | C9: ='EOS steps'!$D$18*'EOS steps'!$D$13*'EOS steps'!$D$9/'EOS steps'!$D$10 -> 0.00012888318 | D9: ='EOS steps'!$E$18*'EOS steps'!$D$13*'EOS steps'!$D$9/'EOS steps'!$D$10 -> 0.00011456283 | E9: ='EOS steps'!$F$18*'EOS steps'!$D$13*'EOS steps'!$D$9/'EOS steps'!$D$10 -> 0.00010565029 | F9: m³/mol | G9: Vc = Zc·R·Tc / Pc (a lone root with Vm < Vc is liquid-like)
A10: Acentric factor for the first guess | B10: ω₀ | C10: -0.302 | D10: ='EOS steps'!$E$11 -> 0.0115 | E10: ='EOS steps'!$F$11 -> 0.0115 | F10: - | G10: ω of the gas; van der Waals behaves like a fluid with ω = −0.302 (its own Psat at Tr = 0.7 is 0.2005·Pc)
A11: Lowest pressure searched | B11: P_lo | C11: ='EOS steps'!$D$10*1E-100 -> 4.61e-94 | D11: ='EOS steps'!$D$10*1E-100 -> 4.61e-94 | E11: ='EOS steps'!$D$10*1E-100 -> 4.61e-94 | F11: Pa | G11: Pc × 1E−100
A12: Highest pressure searched | B12: P_hi | C12: ='EOS steps'!$D$10 -> 4610000 | D12: ='EOS steps'!$D$10 -> 4610000 | E12: ='EOS steps'!$D$10 -> 4610000 | F12: Pa | G12: Pc
A13: First guess (Wilson correlation) | B13: P₀ | C13: =MIN(MAX('EOS steps'!$D$10*EXP(5.373*(1+$C$10)*(1-'EOS steps'!$D$9/'EOS steps'!$D$7)),$C$11*10),$C$12*0.999) -> 4605390 | D13: =MIN(MAX('EOS steps'!$D$10*EXP(5.373*(1+$D$10)*(1-'EOS steps'!$D$9/'EOS steps'!$D$7)),$D$11*10),$D$12*0.999) -> 4605390 | E13: =MIN(MAX('EOS steps'!$D$10*EXP(5.373*(1+$E$10)*(1-'EOS steps'!$D$9/'EOS steps'!$D$7)),$E$11*10),$E$12*0.999) -> 4605390 | F13: Pa | G13: P₀ = Pc·exp[5.373·(1+ω₀)·(1 − Tc/T)] (Wilson correlation), kept inside the search limits
A14: Step used while outside the three-root window | B14: k | C14: =EXP(0.5*('EOS steps'!$D$9/'EOS steps'!$D$7-1)) -> 0.79630625 | D14: =EXP(0.5*('EOS steps'!$D$9/'EOS steps'!$D$7-1)) -> 0.79630625 | E14: =EXP(0.5*('EOS steps'!$D$9/'EOS steps'!$D$7-1)) -> 0.79630625 | F14: - | G14: k = exp[0.5·(Tc/T − 1)]
A15: RESULT: saturation pressure | B15: Psat | C15: =AQ46 -> 4610000 | D15: =AQ75 -> 4610000 | E15: =AQ104 -> 4610000 | F15: Pa | G15: new P of the last iteration row
A16: Change in the last row | C16: =ABS(AQ46-D46)/AQ46 -> 2.9817272e-11 | D16: =ABS(AQ75-D75)/AQ75 -> 2.9817272e-11 | E16: =ABS(AQ104-D104)/AQ104 -> 2.9817272e-11 | F16: - | G16: |P(new) − P| / P(new)
A17: Converged? | C17: =AND('EOS steps'!$D$7<'EOS steps'!$D$9,$C$16<0.00000001) -> 0 | D17: =AND('EOS steps'!$D$7<'EOS steps'!$D$9,$D$16<0.00000001) -> 0 | E17: =AND('EOS steps'!$D$7<'EOS steps'!$D$9,$E$16<0.00000001) -> 0 | G17: TRUE when T < Tc and the last change is below 1E−8
A20: van der Waals: iteration for Psat
A21: Row | B21: lower limit | C21: upper limit | D21: P (Pa) | E21: A | F21: B | G21: c2 | H21: c1 | I21: c0 | J21: p | K21: q | L21: D | M21: w | N21: u | O21: t (Cardano) | P21: r | Q21: θ | R21: t (trig) | S21: Z₁ | T21: δ | U21: Z₁ | V21: δ | W21: Z₁ final | X21: Π | Y21: Σ | Z21: Δ | AA21: Z₂ | AB21: Z₃ | AC21: 3 roots? | AD21: δ | AE21: Z₃ | AF21: δ | AG21: Z₃ final | AH21: Z_V | AI21: Z_L | AJ21: ln φ_V | AK21: ln φ_L | AL21: ln φ_L − ln φ_V | AM21: P below Psat? | AN21: candidate P | AO21: new lower | AP21: new upper | AQ21: new P (Pa)
A22: 1 | B22: =$C$11 -> 4.61e-94 | C22: =$C$12 -> 4610000 | D22: =$C$13 -> 4605390 | E22: =$C$7*D22/('EOS steps'!$D$13*'EOS steps'!$D$7)^2 -> 0.12493286 | F22: =$C$8*D22/('EOS steps'!$D$13*'EOS steps'!$D$7) -> 0.067989086 | G22: =-(1+F22) -> -1.0679891 | H22: =E22 -> 0.12493286 | I22: =-E22*F22 -> -0.0084940708 | J22: =H22-G22^2/3 -> -0.25526737 | K22: =2*G22^3/27-G22*H22/3+I22 -> -0.054251693 | L22: =K22^2/4+J22^3/27 -> 0.00011975278 | M22: =-K22/2-IF(K22>=0,1,-1)*SQRT(MAX(L22,0)) -> 0.038069008 | N22: =SIGN(M22)*ABS(M22)^(1/3) -> 0.33640093 | O22: =IF(N22=0,0,N22-J22/(3*N22)) -> 0.58934055 | P22: =2*SQRT(MAX(-J22,0)/3) -> 0.5834008 | Q22: =ACOS(IF(P22=0,0,MAX(-1,MIN(1,3*K22/(J22*P22))))) -> 0 | R22: =P22*COS(Q22/3) -> 0.5834008 | S22: =IF(L22<0,R22,O22)-G22/3 -> 0.94533691 | T22: =IFERROR((((S22+G22)*S22+H22)*S22+I22)/((3*S22+2*G22)*S22+H22),0) -> 0 | U22: =IF(ABS(T22)<0.1*ABS(S22),S22-T22,S22) -> 0.94533691 | V22: =IFERROR((((U22+G22)*U22+H22)*U22+I22)/((3*U22+2*G22)*U22+H22),0) -> 0 | W22: =IF(ABS(V22)<0.1*ABS(U22),U22-V22,U22) -> 0.94533691 | X22: =-I22/W22 -> 0.0089852313 | Y22: =(H22-X22)/W22 -> 0.12265217 | Z22: =Y22^2-4*X22 -> -0.02089737 | AA22: =IF(Z22>=0,(Y22+IF(Y22>=0,1,-1)*SQRT(Z22))/2,0) -> 0 | AB22: =IF(AND(Z22>=0,AA22<>0),MIN(AA22,X22/AA22),-1) -> -1 | AC22: =AND(Z22>=0,AB22>F22,ABS(W22-AB22)>=0.00005*MAX(W22,AB22)) -> 0 | AD22: =IF(AC22,IFERROR((((AB22+G22)*AB22+H22)*AB22+I22)/((3*AB22+2*G22)*AB22+H22),0),0) -> 0 | AE22: =IF(ABS(AD22)<0.1*ABS(AB22),AB22-AD22,AB22) -> -1 | AF22: =IF(AC22,IFERROR((((AE22+G22)*AE22+H22)*AE22+I22)/((3*AE22+2*G22)*AE22+H22),0),0) -> 0 | AG22: =IF(ABS(AF22)<0.1*ABS(AE22),AE22-AF22,AE22) -> -1 | AH22: =IF(AC22,MAX(W22,AG22),W22) -> 0.94533691 | AI22: =IF(AC22,MIN(W22,AG22),-1) -> -1 | AJ22: =AH22-1-LN(AH22-F22)-E22/AH22 -> -0.055968299 | AK22: =IF(AC22,AI22-1-LN(AI22-F22)-E22/AI22,0) -> 0 | AL22: =IF(AC22,AK22-AJ22,0) -> 0 | AM22: =IF(AC22,AL22>0,AH22*'EOS steps'!$D$13*'EOS steps'!$D$7/D22>=$C$9) -> 1 | AN22: =IF(AC22,IF(AH22>AI22,D22*EXP(MAX(-50,MIN(50,AL22/(AH22-AI22)))),D22),IF(AM22,D22*$C$14,D22/$C$14)) -> 3667300.8 | AO22: =IF(AM22,D22,B22) -> 4605390 | AP22: =IF(AM22,C22,D22) -> 4610000 | AQ22: =IF(AC22,IF(AND(AN22>=AO22*(1-0.000000001),AN22<=AP22*(1+0.000000001)),AN22,SQRT(AO22*AP22)),IF(AND(AO22>$C$11,AP22<$C$12),SQRT(AO22*AP22),IF(AND(AN22>=AO22*(1-0.000000001),AN22<=AP22*(1+0.000000001)),AN22,SQRT(AO22*AP22)))) -> 4607694.4
A23: 2 | B23: =AO22 -> 4605390 | C23: =AP22 -> 4610000 | D23: =AQ22 -> 4607694.4 | E23: =$C$7*D23/('EOS steps'!$D$13*'EOS steps'!$D$7)^2 -> 0.12499537 | F23: =$C$8*D23/('EOS steps'!$D$13*'EOS steps'!$D$7) -> 0.068023106 | G23: =-(1+F23) -> -1.0680231 | H23: =E23 -> 0.12499537 | I23: =-E23*F23 -> -0.0085025734 | J23: =H23-G23^2/3 -> -0.25522908 | K23: =2*G23^3/27-G23*H23/3+I23 -> -0.054245147 | L23: =K23^2/4+J23^3/27 -> 0.00011985241 | M23: =-K23/2-IF(K23>=0,1,-1)*SQRT(MAX(L23,0)) -> 0.038070286 | N23: =SIGN(M23)*ABS(M23)^(1/3) -> 0.33640469 | O23: =IF(N23=0,0,N23-J23/(3*N23)) -> 0.58930354 | P23: =2*SQRT(MAX(-J23,0)/3) -> 0.58335704 | Q23: =ACOS(IF(P23=0,0,MAX(-1,MIN(1,3*K23/(J23*P23))))) -> 0 | R23: =P23*COS(Q23/3) -> 0.58335704 | S23: =IF(L23<0,R23,O23)-G23/3 -> 0.94531124 | T23: =IFERROR((((S23+G23)*S23+H23)*S23+I23)/((3*S23+2*G23)*S23+H23),0) -> 1.1908752e-16 | U23: =IF(ABS(T23)<0.1*ABS(S23),S23-T23,S23) -> 0.94531124 | V23: =IFERROR((((U23+G23)*U23+H23)*U23+I23)/((3*U23+2*G23)*U23+H23),0) -> 0 | W23: =IF(ABS(V23)<0.1*ABS(U23),U23-V23,U23) -> 0.94531124 | X23: =-I23/W23 -> 0.0089944698 | Y23: =(H23-X23)/W23 -> 0.12271186 | Z23: =Y23^2-4*X23 -> -0.020919678 | AA23: =IF(Z23>=0,(Y23+IF(Y23>=0,1,-1)*SQRT(Z23))/2,0) -> 0 | AB23: =IF(AND(Z23>=0,AA23<>0),MIN(AA23,X23/AA23),-1) -> -1 | AC23: =AND(Z23>=0,AB23>F23,ABS(W23-AB23)>=0.00005*MAX(W23,AB23)) -> 0 | AD23: =IF(AC23,IFERROR((((AB23+G23)*AB23+H23)*AB23+I23)/((3*AB23+2*G23)*AB23+H23),0),0) -> 0 | AE23: =IF(ABS(AD23)<0.1*ABS(AB23),AB23-AD23,AB23) -> -1 | AF23: =IF(AC23,IFERROR((((AE23+G23)*AE23+H23)*AE23+I23)/((3*AE23+2*G23)*AE23+H23),0),0) -> 0 | AG23: =IF(ABS(AF23)<0.1*ABS(AE23),AE23-AF23,AE23) -> -1 | AH23: =IF(AC23,MAX(W23,AG23),W23) -> 0.94531124 | AI23: =IF(AC23,MIN(W23,AG23),-1) -> -1 | AJ23: =AH23-1-LN(AH23-F23)-E23/AH23 -> -0.05599565 | AK23: =IF(AC23,AI23-1-LN(AI23-F23)-E23/AI23,0) -> 0 | AL23: =IF(AC23,AK23-AJ23,0) -> 0 | AM23: =IF(AC23,AL23>0,AH23*'EOS steps'!$D$13*'EOS steps'!$D$7/D23>=$C$9) -> 1 | AN23: =IF(AC23,IF(AH23>AI23,D23*EXP(MAX(-50,MIN(50,AL23/(AH23-AI23)))),D23),IF(AM23,D23*$C$14,D23/$C$14)) -> 3669135.9 | AO23: =IF(AM23,D23,B23) -> 4607694.4 | AP23: =IF(AM23,C23,D23) -> 4610000 | AQ23: =IF(AC23,IF(AND(AN23>=AO23*(1-0.000000001),AN23<=AP23*(1+0.000000001)),AN23,SQRT(AO23*AP23)),IF(AND(AO23>$C$11,AP23<$C$12),SQRT(AO23*AP23),IF(AND(AN23>=AO23*(1-0.000000001),AN23<=AP23*(1+0.000000001)),AN23,SQRT(AO23*AP23)))) -> 4608847.1
A24: 3 | B24: =AO23 -> 4607694.4 | C24: =AP23 -> 4610000 | D24: =AQ23 -> 4608847.1 | E24: =$C$7*D24/('EOS steps'!$D$13*'EOS steps'!$D$7)^2 -> 0.12502664 | F24: =$C$8*D24/('EOS steps'!$D$13*'EOS steps'!$D$7) -> 0.068040122 | G24: =-(1+F24) -> -1.0680401 | H24: =E24 -> 0.12502664 | I24: =-E24*F24 -> -0.0085068279 | J24: =H24-G24^2/3 -> -0.25520993 | K24: =2*G24^3/27-G24*H24/3+I24 -> -0.054241874 | L24: =K24^2/4+J24^3/27 -> 0.00011990225 | M24: =-K24/2-IF(K24>=0,1,-1)*SQRT(MAX(L24,0)) -> 0.038070926 | N24: =SIGN(M24)*ABS(M24)^(1/3) -> 0.33640658 | O24: =IF(N24=0,0,N24-J24/(3*N24)) -> 0.58928503 | P24: =2*SQRT(MAX(-J24,0)/3) -> 0.58333515 | Q24: =ACOS(IF(P24=0,0,MAX(-1,MIN(1,3*K24/(J24*P24))))) -> 0 | R24: =P24*COS(Q24/3) -> 0.58333515 | S24: =IF(L24<0,R24,O24)-G24/3 -> 0.94529841 | T24: =IFERROR((((S24+G24)*S24+H24)*S24+I24)/((3*S24+2*G24)*S24+H24),0) -> -1.1909453e-16 | U24: =IF(ABS(T24)<0.1*ABS(S24),S24-T24,S24) -> 0.94529841 | V24: =IFERROR((((U24+G24)*U24+H24)*U24+I24)/((3*U24+2*G24)*U24+H24),0) -> 0 | W24: =IF(ABS(V24)<0.1*ABS(U24),U24-V24,U24) -> 0.94529841 | X24: =-I24/W24 -> 0.0089990926 | Y24: =(H24-X24)/W24 -> 0.12274172 | Z24: =Y24^2-4*X24 -> -0.020930842 | AA24: =IF(Z24>=0,(Y24+IF(Y24>=0,1,-1)*SQRT(Z24))/2,0) -> 0 | AB24: =IF(AND(Z24>=0,AA24<>0),MIN(AA24,X24/AA24),-1) -> -1 | AC24: =AND(Z24>=0,AB24>F24,ABS(W24-AB24)>=0.00005*MAX(W24,AB24)) -> 0 | AD24: =IF(AC24,IFERROR((((AB24+G24)*AB24+H24)*AB24+I24)/((3*AB24+2*G24)*AB24+H24),0),0) -> 0 | AE24: =IF(ABS(AD24)<0.1*ABS(AB24),AB24-AD24,AB24) -> -1 | AF24: =IF(AC24,IFERROR((((AE24+G24)*AE24+H24)*AE24+I24)/((3*AE24+2*G24)*AE24+H24),0),0) -> 0 | AG24: =IF(ABS(AF24)<0.1*ABS(AE24),AE24-AF24,AE24) -> -1 | AH24: =IF(AC24,MAX(W24,AG24),W24) -> 0.94529841 | AI24: =IF(AC24,MIN(W24,AG24),-1) -> -1 | AJ24: =AH24-1-LN(AH24-F24)-E24/AH24 -> -0.056009331 | AK24: =IF(AC24,AI24-1-LN(AI24-F24)-E24/AI24,0) -> 0 | AL24: =IF(AC24,AK24-AJ24,0) -> 0 | AM24: =IF(AC24,AL24>0,AH24*'EOS steps'!$D$13*'EOS steps'!$D$7/D24>=$C$9) -> 1 | AN24: =IF(AC24,IF(AH24>AI24,D24*EXP(MAX(-50,MIN(50,AL24/(AH24-AI24)))),D24),IF(AM24,D24*$C$14,D24/$C$14)) -> 3670053.7 | AO24: =IF(AM24,D24,B24) -> 4608847.1 | AP24: =IF(AM24,C24,D24) -> 4610000 | AQ24: =IF(AC24,IF(AND(AN24>=AO24*(1-0.000000001),AN24<=AP24*(1+0.000000001)),AN24,SQRT(AO24*AP24)),IF(AND(AO24>$C$11,AP24<$C$12),SQRT(AO24*AP24),IF(AND(AN24>=AO24*(1-0.000000001),AN24<=AP24*(1+0.000000001)),AN24,SQRT(AO24*AP24)))) -> 4609423.5
A25: 4 | B25: =AO24 -> 4608847.1 | C25: =AP24 -> 4610000 | D25: =AQ24 -> 4609423.5 | E25: =$C$7*D25/('EOS steps'!$D$13*'EOS steps'!$D$7)^2 -> 0.12504228 | F25: =$C$8*D25/('EOS steps'!$D$13*'EOS steps'!$D$7) -> 0.068048632 | G25: =-(1+F25) -> -1.0680486 | H25: =E25 -> 0.12504228 | I25: =-E25*F25 -> -0.0085089559 | J25: =H25-G25^2/3 -> -0.25520035 | K25: =2*G25^3/27-G25*H25/3+I25 -> -0.054240237 | L25: =K25^2/4+J25^3/27 -> 0.00011992718 | M25: =-K25/2-IF(K25>=0,1,-1)*SQRT(MAX(L25,0)) -> 0.038071246 | N25: =SIGN(M25)*ABS(M25)^(1/3) -> 0.33640752 | O25: =IF(N25=0,0,N25-J25/(3*N25)) -> 0.58927578 | P25: =2*SQRT(MAX(-J25,0)/3) -> 0.58332421 | Q25: =ACOS(IF(P25=0,0,MAX(-1,MIN(1,3*K25/(J25*P25))))) -> 0 | R25: =P25*COS(Q25/3) -> 0.58332421 | S25: =IF(L25<0,R25,O25)-G25/3 -> 0.94529199 | T25: =IFERROR((((S25+G25)*S25+H25)*S25+I25)/((3*S25+2*G25)*S25+H25),0) -> -1.4556427e-16 | U25: =IF(ABS(T25)<0.1*ABS(S25),S25-T25,S25) -> 0.94529199 | V25: =IFERROR((((U25+G25)*U25+H25)*U25+I25)/((3*U25+2*G25)*U25+H25),0) -> 0 | W25: =IF(ABS(V25)<0.1*ABS(U25),U25-V25,U25) -> 0.94529199 | X25: =-I25/W25 -> 0.0090014049 | Y25: =(H25-X25)/W25 -> 0.12275664 | Z25: =Y25^2-4*X25 -> -0.020936426 | AA25: =IF(Z25>=0,(Y25+IF(Y25>=0,1,-1)*SQRT(Z25))/2,0) -> 0 | AB25: =IF(AND(Z25>=0,AA25<>0),MIN(AA25,X25/AA25),-1) -> -1 | AC25: =AND(Z25>=0,AB25>F25,ABS(W25-AB25)>=0.00005*MAX(W25,AB25)) -> 0 | AD25: =IF(AC25,IFERROR((((AB25+G25)*AB25+H25)*AB25+I25)/((3*AB25+2*G25)*AB25+H25),0),0) -> 0 | AE25: =IF(ABS(AD25)<0.1*ABS(AB25),AB25-AD25,AB25) -> -1 | AF25: =IF(AC25,IFERROR((((AE25+G25)*AE25+H25)*AE25+I25)/((3*AE25+2*G25)*AE25+H25),0),0) -> 0 | AG25: =IF(ABS(AF25)<0.1*ABS(AE25),AE25-AF25,AE25) -> -1 | AH25: =IF(AC25,MAX(W25,AG25),W25) -> 0.94529199 | AI25: =IF(AC25,MIN(W25,AG25),-1) -> -1 | AJ25: =AH25-1-LN(AH25-F25)-E25/AH25 -> -0.056016172 | AK25: =IF(AC25,AI25-1-LN(AI25-F25)-E25/AI25,0) -> 0 | AL25: =IF(AC25,AK25-AJ25,0) -> 0 | AM25: =IF(AC25,AL25>0,AH25*'EOS steps'!$D$13*'EOS steps'!$D$7/D25>=$C$9) -> 1 | AN25: =IF(AC25,IF(AH25>AI25,D25*EXP(MAX(-50,MIN(50,AL25/(AH25-AI25)))),D25),IF(AM25,D25*$C$14,D25/$C$14)) -> 3670512.7 | AO25: =IF(AM25,D25,B25) -> 4609423.5 | AP25: =IF(AM25,C25,D25) -> 4610000 | AQ25: =IF(AC25,IF(AND(AN25>=AO25*(1-0.000000001),AN25<=AP25*(1+0.000000001)),AN25,SQRT(AO25*AP25)),IF(AND(AO25>$C$11,AP25<$C$12),SQRT(AO25*AP25),IF(AND(AN25>=AO25*(1-0.000000001),AN25<=AP25*(1+0.000000001)),AN25,SQRT(AO25*AP25)))) -> 4609711.7
A26: 5 | B26: =AO25 -> 4609423.5 | C26: =AP25 -> 4610000 | D26: =AQ25 -> 4609711.7 | E26: =$C$7*D26/('EOS steps'!$D$13*'EOS steps'!$D$7)^2 -> 0.1250501 | F26: =$C$8*D26/('EOS steps'!$D$13*'EOS steps'!$D$7) -> 0.068052887 | G26: =-(1+F26) -> -1.0680529 | H26: =E26 -> 0.1250501 | I26: =-E26*F26 -> -0.0085100202 | J26: =H26-G26^2/3 -> -0.25519556 | K26: =2*G26^3/27-G26*H26/3+I26 -> -0.054239419 | L26: =K26^2/4+J26^3/27 -> 0.00011993965 | M26: =-K26/2-IF(K26>=0,1,-1)*SQRT(MAX(L26,0)) -> 0.038071406 | N26: =SIGN(M26)*ABS(M26)^(1/3) -> 0.33640799 | O26: =IF(N26=0,0,N26-J26/(3*N26)) -> 0.58927115 | P26: =2*SQRT(MAX(-J26,0)/3) -> 0.58331873 | Q26: =ACOS(IF(P26=0,0,MAX(-1,MIN(1,3*K26/(J26*P26))))) -> 0 | R26: =P26*COS(Q26/3) -> 0.58331873 | S26: =IF(L26<0,R26,O26)-G26/3 -> 0.94528878 | T26: =IFERROR((((S26+G26)*S26+H26)*S26+I26)/((3*S26+2*G26)*S26+H26),0) -> 0 | U26: =IF(ABS(T26)<0.1*ABS(S26),S26-T26,S26) -> 0.94528878 | V26: =IFERROR((((U26+G26)*U26+H26)*U26+I26)/((3*U26+2*G26)*U26+H26),0) -> 0 | W26: =IF(ABS(V26)<0.1*ABS(U26),U26-V26,U26) -> 0.94528878 | X26: =-I26/W26 -> 0.0090025613 | Y26: =(H26-X26)/W26 -> 0.12276411 | Z26: =Y26^2-4*X26 -> -0.020939218 | AA26: =IF(Z26>=0,(Y26+IF(Y26>=0,1,-1)*SQRT(Z26))/2,0) -> 0 | AB26: =IF(AND(Z26>=0,AA26<>0),MIN(AA26,X26/AA26),-1) -> -1 | AC26: =AND(Z26>=0,AB26>F26,ABS(W26-AB26)>=0.00005*MAX(W26,AB26)) -> 0 | AD26: =IF(AC26,IFERROR((((AB26+G26)*AB26+H26)*AB26+I26)/((3*AB26+2*G26)*AB26+H26),0),0) -> 0 | AE26: =IF(ABS(AD26)<0.1*ABS(AB26),AB26-AD26,AB26) -> -1 | AF26: =IF(AC26,IFERROR((((AE26+G26)*AE26+H26)*AE26+I26)/((3*AE26+2*G26)*AE26+H26),0),0) -> 0 | AG26: =IF(ABS(AF26)<0.1*ABS(AE26),AE26-AF26,AE26) -> -1 | AH26: =IF(AC26,MAX(W26,AG26),W26) -> 0.94528878 | AI26: =IF(AC26,MIN(W26,AG26),-1) -> -1 | AJ26: =AH26-1-LN(AH26-F26)-E26/AH26 -> -0.056019594 | AK26: =IF(AC26,AI26-1-LN(AI26-F26)-E26/AI26,0) -> 0 | AL26: =IF(AC26,AK26-AJ26,0) -> 0 | AM26: =IF(AC26,AL26>0,AH26*'EOS steps'!$D$13*'EOS steps'!$D$7/D26>=$C$9) -> 1 | AN26: =IF(AC26,IF(AH26>AI26,D26*EXP(MAX(-50,MIN(50,AL26/(AH26-AI26)))),D26),IF(AM26,D26*$C$14,D26/$C$14)) -> 3670742.3 | AO26: =IF(AM26,D26,B26) -> 4609711.7 | AP26: =IF(AM26,C26,D26) -> 4610000 | AQ26: =IF(AC26,IF(AND(AN26>=AO26*(1-0.000000001),AN26<=AP26*(1+0.000000001)),AN26,SQRT(AO26*AP26)),IF(AND(AO26>$C$11,AP26<$C$12),SQRT(AO26*AP26),IF(AND(AN26>=AO26*(1-0.000000001),AN26<=AP26*(1+0.000000001)),AN26,SQRT(AO26*AP26)))) -> 4609855.9
A27: 6 | B27: =AO26 -> 4609711.7 | C27: =AP26 -> 4610000 | D27: =AQ26 -> 4609855.9 | E27: =$C$7*D27/('EOS steps'!$D$13*'EOS steps'!$D$7)^2 -> 0.12505401 | F27: =$C$8*D27/('EOS steps'!$D$13*'EOS steps'!$D$7) -> 0.068055015 | G27: =-(1+F27) -> -1.068055 | H27: =E27 -> 0.12505401 | I27: =-E27*F27 -> -0.0085105523 | J27: =H27-G27^2/3 -> -0.25519316 | K27: =2*G27^3/27-G27*H27/3+I27 -> -0.05423901 | L27: =K27^2/4+J27^3/27 -> 0.00011994588 | M27: =-K27/2-IF(K27>=0,1,-1)*SQRT(MAX(L27,0)) -> 0.038071486 | N27: =SIGN(M27)*ABS(M27)^(1/3) -> 0.33640823 | O27: =IF(N27=0,0,N27-J27/(3*N27)) -> 0.58926883 | P27: =2*SQRT(MAX(-J27,0)/3) -> 0.583316 | Q27: =ACOS(IF(P27=0,0,MAX(-1,MIN(1,3*K27/(J27*P27))))) -> 0 | R27: =P27*COS(Q27/3) -> 0.583316 | S27: =IF(L27<0,R27,O27)-G27/3 -> 0.94528717 | T27: =IFERROR((((S27+G27)*S27+H27)*S27+I27)/((3*S27+2*G27)*S27+H27),0) -> 0 | U27: =IF(ABS(T27)<0.1*ABS(S27),S27-T27,S27) -> 0.94528717 | V27: =IFERROR((((U27+G27)*U27+H27)*U27+I27)/((3*U27+2*G27)*U27+H27),0) -> 0 | W27: =IF(ABS(V27)<0.1*ABS(U27),U27-V27,U27) -> 0.94528717 | X27: =-I27/W27 -> 0.0090031395 | Y27: =(H27-X27)/W27 -> 0.12276784 | Z27: =Y27^2-4*X27 -> -0.020940615 | AA27: =IF(Z27>=0,(Y27+IF(Y27>=0,1,-1)*SQRT(Z27))/2,0) -> 0 | AB27: =IF(AND(Z27>=0,AA27<>0),MIN(AA27,X27/AA27),-1) -> -1 | AC27: =AND(Z27>=0,AB27>F27,ABS(W27-AB27)>=0.00005*MAX(W27,AB27)) -> 0 | AD27: =IF(AC27,IFERROR((((AB27+G27)*AB27+H27)*AB27+I27)/((3*AB27+2*G27)*AB27+H27),0),0) -> 0 | AE27: =IF(ABS(AD27)<0.1*ABS(AB27),AB27-AD27,AB27) -> -1 | AF27: =IF(AC27,IFERROR((((AE27+G27)*AE27+H27)*AE27+I27)/((3*AE27+2*G27)*AE27+H27),0),0) -> 0 | AG27: =IF(ABS(AF27)<0.1*ABS(AE27),AE27-AF27,AE27) -> -1 | AH27: =IF(AC27,MAX(W27,AG27),W27) -> 0.94528717 | AI27: =IF(AC27,MIN(W27,AG27),-1) -> -1 | AJ27: =AH27-1-LN(AH27-F27)-E27/AH27 -> -0.056021304 | AK27: =IF(AC27,AI27-1-LN(AI27-F27)-E27/AI27,0) -> 0 | AL27: =IF(AC27,AK27-AJ27,0) -> 0 | AM27: =IF(AC27,AL27>0,AH27*'EOS steps'!$D$13*'EOS steps'!$D$7/D27>=$C$9) -> 1 | AN27: =IF(AC27,IF(AH27>AI27,D27*EXP(MAX(-50,MIN(50,AL27/(AH27-AI27)))),D27),IF(AM27,D27*$C$14,D27/$C$14)) -> 3670857 | AO27: =IF(AM27,D27,B27) -> 4609855.9 | AP27: =IF(AM27,C27,D27) -> 4610000 | AQ27: =IF(AC27,IF(AND(AN27>=AO27*(1-0.000000001),AN27<=AP27*(1+0.000000001)),AN27,SQRT(AO27*AP27)),IF(AND(AO27>$C$11,AP27<$C$12),SQRT(AO27*AP27),IF(AND(AN27>=AO27*(1-0.000000001),AN27<=AP27*(1+0.000000001)),AN27,SQRT(AO27*AP27)))) -> 4609927.9
A28: 7 | B28: =AO27 -> 4609855.9 | C28: =AP27 -> 4610000 | D28: =AQ27 -> 4609927.9 | E28: =$C$7*D28/('EOS steps'!$D$13*'EOS steps'!$D$7)^2 -> 0.12505596 | F28: =$C$8*D28/('EOS steps'!$D$13*'EOS steps'!$D$7) -> 0.068056079 | G28: =-(1+F28) -> -1.0680561 | H28: =E28 -> 0.12505596 | I28: =-E28*F28 -> -0.0085108184 | J28: =H28-G28^2/3 -> -0.25519197 | K28: =2*G28^3/27-G28*H28/3+I28 -> -0.054238806 | L28: =K28^2/4+J28^3/27 -> 0.000119949 | M28: =-K28/2-IF(K28>=0,1,-1)*SQRT(MAX(L28,0)) -> 0.038071526 | N28: =SIGN(M28)*ABS(M28)^(1/3) -> 0.33640835 | O28: =IF(N28=0,0,N28-J28/(3*N28)) -> 0.58926768 | P28: =2*SQRT(MAX(-J28,0)/3) -> 0.58331463 | Q28: =ACOS(IF(P28=0,0,MAX(-1,MIN(1,3*K28/(J28*P28))))) -> 0 | R28: =P28*COS(Q28/3) -> 0.58331463 | S28: =IF(L28<0,R28,O28)-G28/3 -> 0.94528637 | T28: =IFERROR((((S28+G28)*S28+H28)*S28+I28)/((3*S28+2*G28)*S28+H28),0) -> 0 | U28: =IF(ABS(T28)<0.1*ABS(S28),S28-T28,S28) -> 0.94528637 | V28: =IFERROR((((U28+G28)*U28+H28)*U28+I28)/((3*U28+2*G28)*U28+H28),0) -> 0 | W28: =IF(ABS(V28)<0.1*ABS(U28),U28-V28,U28) -> 0.94528637 | X28: =-I28/W28 -> 0.0090034287 | Y28: =(H28-X28)/W28 -> 0.12276971 | Z28: =Y28^2-4*X28 -> -0.020941313 | AA28: =IF(Z28>=0,(Y28+IF(Y28>=0,1,-1)*SQRT(Z28))/2,0) -> 0 | AB28: =IF(AND(Z28>=0,AA28<>0),MIN(AA28,X28/AA28),-1) -> -1 | AC28: =AND(Z28>=0,AB28>F28,ABS(W28-AB28)>=0.00005*MAX(W28,AB28)) -> 0 | AD28: =IF(AC28,IFERROR((((AB28+G28)*AB28+H28)*AB28+I28)/((3*AB28+2*G28)*AB28+H28),0),0) -> 0 | AE28: =IF(ABS(AD28)<0.1*ABS(AB28),AB28-AD28,AB28) -> -1 | AF28: =IF(AC28,IFERROR((((AE28+G28)*AE28+H28)*AE28+I28)/((3*AE28+2*G28)*AE28+H28),0),0) -> 0 | AG28: =IF(ABS(AF28)<0.1*ABS(AE28),AE28-AF28,AE28) -> -1 | AH28: =IF(AC28,MAX(W28,AG28),W28) -> 0.94528637 | AI28: =IF(AC28,MIN(W28,AG28),-1) -> -1 | AJ28: =AH28-1-LN(AH28-F28)-E28/AH28 -> -0.056022159 | AK28: =IF(AC28,AI28-1-LN(AI28-F28)-E28/AI28,0) -> 0 | AL28: =IF(AC28,AK28-AJ28,0) -> 0 | AM28: =IF(AC28,AL28>0,AH28*'EOS steps'!$D$13*'EOS steps'!$D$7/D28>=$C$9) -> 1 | AN28: =IF(AC28,IF(AH28>AI28,D28*EXP(MAX(-50,MIN(50,AL28/(AH28-AI28)))),D28),IF(AM28,D28*$C$14,D28/$C$14)) -> 3670914.4 | AO28: =IF(AM28,D28,B28) -> 4609927.9 | AP28: =IF(AM28,C28,D28) -> 4610000 | AQ28: =IF(AC28,IF(AND(AN28>=AO28*(1-0.000000001),AN28<=AP28*(1+0.000000001)),AN28,SQRT(AO28*AP28)),IF(AND(AO28>$C$11,AP28<$C$12),SQRT(AO28*AP28),IF(AND(AN28>=AO28*(1-0.000000001),AN28<=AP28*(1+0.000000001)),AN28,SQRT(AO28*AP28)))) -> 4609964
A29: 8 | B29: =AO28 -> 4609927.9 | C29: =AP28 -> 4610000 | D29: =AQ28 -> 4609964 | E29: =$C$7*D29/('EOS steps'!$D$13*'EOS steps'!$D$7)^2 -> 0.12505694 | F29: =$C$8*D29/('EOS steps'!$D$13*'EOS steps'!$D$7) -> 0.068056611 | G29: =-(1+F29) -> -1.0680566 | H29: =E29 -> 0.12505694 | I29: =-E29*F29 -> -0.0085109515 | J29: =H29-G29^2/3 -> -0.25519137 | K29: =2*G29^3/27-G29*H29/3+I29 -> -0.054238703 | L29: =K29^2/4+J29^3/27 -> 0.00011995056 | M29: =-K29/2-IF(K29>=0,1,-1)*SQRT(MAX(L29,0)) -> 0.038071546 | N29: =SIGN(M29)*ABS(M29)^(1/3) -> 0.3364084 | O29: =IF(N29=0,0,N29-J29/(3*N29)) -> 0.5892671 | P29: =2*SQRT(MAX(-J29,0)/3) -> 0.58331394 | Q29: =ACOS(IF(P29=0,0,MAX(-1,MIN(1,3*K29/(J29*P29))))) -> 0 | R29: =P29*COS(Q29/3) -> 0.58331394 | S29: =IF(L29<0,R29,O29)-G29/3 -> 0.94528597 | T29: =IFERROR((((S29+G29)*S29+H29)*S29+I29)/((3*S29+2*G29)*S29+H29),0) -> 0 | U29: =IF(ABS(T29)<0.1*ABS(S29),S29-T29,S29) -> 0.94528597 | V29: =IFERROR((((U29+G29)*U29+H29)*U29+I29)/((3*U29+2*G29)*U29+H29),0) -> 0 | W29: =IF(ABS(V29)<0.1*ABS(U29),U29-V29,U29) -> 0.94528597 | X29: =-I29/W29 -> 0.0090035732 | Y29: =(H29-X29)/W29 -> 0.12277064 | Z29: =Y29^2-4*X29 -> -0.020941662 | AA29: =IF(Z29>=0,(Y29+IF(Y29>=0,1,-1)*SQRT(Z29))/2,0) -> 0 | AB29: =IF(AND(Z29>=0,AA29<>0),MIN(AA29,X29/AA29),-1) -> -1 | AC29: =AND(Z29>=0,AB29>F29,ABS(W29-AB29)>=0.00005*MAX(W29,AB29)) -> 0 | AD29: =IF(AC29,IFERROR((((AB29+G29)*AB29+H29)*AB29+I29)/((3*AB29+2*G29)*AB29+H29),0),0) -> 0 | AE29: =IF(ABS(AD29)<0.1*ABS(AB29),AB29-AD29,AB29) -> -1 | AF29: =IF(AC29,IFERROR((((AE29+G29)*AE29+H29)*AE29+I29)/((3*AE29+2*G29)*AE29+H29),0),0) -> 0 | AG29: =IF(ABS(AF29)<0.1*ABS(AE29),AE29-AF29,AE29) -> -1 | AH29: =IF(AC29,MAX(W29,AG29),W29) -> 0.94528597 | AI29: =IF(AC29,MIN(W29,AG29),-1) -> -1 | AJ29: =AH29-1-LN(AH29-F29)-E29/AH29 -> -0.056022587 | AK29: =IF(AC29,AI29-1-LN(AI29-F29)-E29/AI29,0) -> 0 | AL29: =IF(AC29,AK29-AJ29,0) -> 0 | AM29: =IF(AC29,AL29>0,AH29*'EOS steps'!$D$13*'EOS steps'!$D$7/D29>=$C$9) -> 1 | AN29: =IF(AC29,IF(AH29>AI29,D29*EXP(MAX(-50,MIN(50,AL29/(AH29-AI29)))),D29),IF(AM29,D29*$C$14,D29/$C$14)) -> 3670943.1 | AO29: =IF(AM29,D29,B29) -> 4609964 | AP29: =IF(AM29,C29,D29) -> 4610000 | AQ29: =IF(AC29,IF(AND(AN29>=AO29*(1-0.000000001),AN29<=AP29*(1+0.000000001)),AN29,SQRT(AO29*AP29)),IF(AND(AO29>$C$11,AP29<$C$12),SQRT(AO29*AP29),IF(AND(AN29>=AO29*(1-0.000000001),AN29<=AP29*(1+0.000000001)),AN29,SQRT(AO29*AP29)))) -> 4609982
A30: 9 | B30: =AO29 -> 4609964 | C30: =AP29 -> 4610000 | D30: =AQ29 -> 4609982 | E30: =$C$7*D30/('EOS steps'!$D$13*'EOS steps'!$D$7)^2 -> 0.12505743 | F30: =$C$8*D30/('EOS steps'!$D$13*'EOS steps'!$D$7) -> 0.068056877 | G30: =-(1+F30) -> -1.0680569 | H30: =E30 -> 0.12505743 | I30: =-E30*F30 -> -0.008511018 | J30: =H30-G30^2/3 -> -0.25519107 | K30: =2*G30^3/27-G30*H30/3+I30 -> -0.054238652 | L30: =K30^2/4+J30^3/27 -> 0.00011995133 | M30: =-K30/2-IF(K30>=0,1,-1)*SQRT(MAX(L30,0)) -> 0.038071556 | N30: =SIGN(M30)*ABS(M30)^(1/3) -> 0.33640843 | O30: =IF(N30=0,0,N30-J30/(3*N30)) -> 0.58926681 | P30: =2*SQRT(MAX(-J30,0)/3) -> 0.5833136 | Q30: =ACOS(IF(P30=0,0,MAX(-1,MIN(1,3*K30/(J30*P30))))) -> 0 | R30: =P30*COS(Q30/3) -> 0.5833136 | S30: =IF(L30<0,R30,O30)-G30/3 -> 0.94528577 | T30: =IFERROR((((S30+G30)*S30+H30)*S30+I30)/((3*S30+2*G30)*S30+H30),0) -> 0 | U30: =IF(ABS(T30)<0.1*ABS(S30),S30-T30,S30) -> 0.94528577 | V30: =IFERROR((((U30+G30)*U30+H30)*U30+I30)/((3*U30+2*G30)*U30+H30),0) -> 0 | W30: =IF(ABS(V30)<0.1*ABS(U30),U30-V30,U30) -> 0.94528577 | X30: =-I30/W30 -> 0.0090036455 | Y30: =(H30-X30)/W30 -> 0.12277111 | Z30: =Y30^2-4*X30 -> -0.020941837 | AA30: =IF(Z30>=0,(Y30+IF(Y30>=0,1,-1)*SQRT(Z30))/2,0) -> 0 | AB30: =IF(AND(Z30>=0,AA30<>0),MIN(AA30,X30/AA30),-1) -> -1 | AC30: =AND(Z30>=0,AB30>F30,ABS(W30-AB30)>=0.00005*MAX(W30,AB30)) -> 0 | AD30: =IF(AC30,IFERROR((((AB30+G30)*AB30+H30)*AB30+I30)/((3*AB30+2*G30)*AB30+H30),0),0) -> 0 | AE30: =IF(ABS(AD30)<0.1*ABS(AB30),AB30-AD30,AB30) -> -1 | AF30: =IF(AC30,IFERROR((((AE30+G30)*AE30+H30)*AE30+I30)/((3*AE30+2*G30)*AE30+H30),0),0) -> 0 | AG30: =IF(ABS(AF30)<0.1*ABS(AE30),AE30-AF30,AE30) -> -1 | AH30: =IF(AC30,MAX(W30,AG30),W30) -> 0.94528577 | AI30: =IF(AC30,MIN(W30,AG30),-1) -> -1 | AJ30: =AH30-1-LN(AH30-F30)-E30/AH30 -> -0.056022801 | AK30: =IF(AC30,AI30-1-LN(AI30-F30)-E30/AI30,0) -> 0 | AL30: =IF(AC30,AK30-AJ30,0) -> 0 | AM30: =IF(AC30,AL30>0,AH30*'EOS steps'!$D$13*'EOS steps'!$D$7/D30>=$C$9) -> 1 | AN30: =IF(AC30,IF(AH30>AI30,D30*EXP(MAX(-50,MIN(50,AL30/(AH30-AI30)))),D30),IF(AM30,D30*$C$14,D30/$C$14)) -> 3670957.5 | AO30: =IF(AM30,D30,B30) -> 4609982 | AP30: =IF(AM30,C30,D30) -> 4610000 | AQ30: =IF(AC30,IF(AND(AN30>=AO30*(1-0.000000001),AN30<=AP30*(1+0.000000001)),AN30,SQRT(AO30*AP30)),IF(AND(AO30>$C$11,AP30<$C$12),SQRT(AO30*AP30),IF(AND(AN30>=AO30*(1-0.000000001),AN30<=AP30*(1+0.000000001)),AN30,SQRT(AO30*AP30)))) -> 4609991
A31: 10 | B31: =AO30 -> 4609982 | C31: =AP30 -> 4610000 | D31: =AQ30 -> 4609991 | E31: =$C$7*D31/('EOS steps'!$D$13*'EOS steps'!$D$7)^2 -> 0.12505767 | F31: =$C$8*D31/('EOS steps'!$D$13*'EOS steps'!$D$7) -> 0.06805701 | G31: =-(1+F31) -> -1.068057 | H31: =E31 -> 0.12505767 | I31: =-E31*F31 -> -0.0085110512 | J31: =H31-G31^2/3 -> -0.25519092 | K31: =2*G31^3/27-G31*H31/3+I31 -> -0.054238627 | L31: =K31^2/4+J31^3/27 -> 0.00011995172 | M31: =-K31/2-IF(K31>=0,1,-1)*SQRT(MAX(L31,0)) -> 0.038071561 | N31: =SIGN(M31)*ABS(M31)^(1/3) -> 0.33640845 | O31: =IF(N31=0,0,N31-J31/(3*N31)) -> 0.58926666 | P31: =2*SQRT(MAX(-J31,0)/3) -> 0.58331343 | Q31: =ACOS(IF(P31=0,0,MAX(-1,MIN(1,3*K31/(J31*P31))))) -> 0 | R31: =P31*COS(Q31/3) -> 0.58331343 | S31: =IF(L31<0,R31,O31)-G31/3 -> 0.94528567 | T31: =IFERROR((((S31+G31)*S31+H31)*S31+I31)/((3*S31+2*G31)*S31+H31),0) -> 6.3961909e-17 | U31: =IF(ABS(T31)<0.1*ABS(S31),S31-T31,S31) -> 0.94528567 | V31: =IFERROR((((U31+G31)*U31+H31)*U31+I31)/((3*U31+2*G31)*U31+H31),0) -> -5.5139577e-17 | W31: =IF(ABS(V31)<0.1*ABS(U31),U31-V31,U31) -> 0.94528567 | X31: =-I31/W31 -> 0.0090036817 | Y31: =(H31-X31)/W31 -> 0.12277134 | Z31: =Y31^2-4*X31 -> -0.020941924 | AA31: =IF(Z31>=0,(Y31+IF(Y31>=0,1,-1)*SQRT(Z31))/2,0) -> 0 | AB31: =IF(AND(Z31>=0,AA31<>0),MIN(AA31,X31/AA31),-1) -> -1 | AC31: =AND(Z31>=0,AB31>F31,ABS(W31-AB31)>=0.00005*MAX(W31,AB31)) -> 0 | AD31: =IF(AC31,IFERROR((((AB31+G31)*AB31+H31)*AB31+I31)/((3*AB31+2*G31)*AB31+H31),0),0) -> 0 | AE31: =IF(ABS(AD31)<0.1*ABS(AB31),AB31-AD31,AB31) -> -1 | AF31: =IF(AC31,IFERROR((((AE31+G31)*AE31+H31)*AE31+I31)/((3*AE31+2*G31)*AE31+H31),0),0) -> 0 | AG31: =IF(ABS(AF31)<0.1*ABS(AE31),AE31-AF31,AE31) -> -1 | AH31: =IF(AC31,MAX(W31,AG31),W31) -> 0.94528567 | AI31: =IF(AC31,MIN(W31,AG31),-1) -> -1 | AJ31: =AH31-1-LN(AH31-F31)-E31/AH31 -> -0.056022908 | AK31: =IF(AC31,AI31-1-LN(AI31-F31)-E31/AI31,0) -> 0 | AL31: =IF(AC31,AK31-AJ31,0) -> 0 | AM31: =IF(AC31,AL31>0,AH31*'EOS steps'!$D$13*'EOS steps'!$D$7/D31>=$C$9) -> 1 | AN31: =IF(AC31,IF(AH31>AI31,D31*EXP(MAX(-50,MIN(50,AL31/(AH31-AI31)))),D31),IF(AM31,D31*$C$14,D31/$C$14)) -> 3670964.6 | AO31: =IF(AM31,D31,B31) -> 4609991 | AP31: =IF(AM31,C31,D31) -> 4610000 | AQ31: =IF(AC31,IF(AND(AN31>=AO31*(1-0.000000001),AN31<=AP31*(1+0.000000001)),AN31,SQRT(AO31*AP31)),IF(AND(AO31>$C$11,AP31<$C$12),SQRT(AO31*AP31),IF(AND(AN31>=AO31*(1-0.000000001),AN31<=AP31*(1+0.000000001)),AN31,SQRT(AO31*AP31)))) -> 4609995.5
A32: 11 | B32: =AO31 -> 4609991 | C32: =AP31 -> 4610000 | D32: =AQ31 -> 4609995.5 | E32: =$C$7*D32/('EOS steps'!$D$13*'EOS steps'!$D$7)^2 -> 0.12505779 | F32: =$C$8*D32/('EOS steps'!$D$13*'EOS steps'!$D$7) -> 0.068057076 | G32: =-(1+F32) -> -1.0680571 | H32: =E32 -> 0.12505779 | I32: =-E32*F32 -> -0.0085110679 | J32: =H32-G32^2/3 -> -0.25519084 | K32: =2*G32^3/27-G32*H32/3+I32 -> -0.054238614 | L32: =K32^2/4+J32^3/27 -> 0.00011995192 | M32: =-K32/2-IF(K32>=0,1,-1)*SQRT(MAX(L32,0)) -> 0.038071563 | N32: =SIGN(M32)*ABS(M32)^(1/3) -> 0.33640846 | O32: =IF(N32=0,0,N32-J32/(3*N32)) -> 0.58926659 | P32: =2*SQRT(MAX(-J32,0)/3) -> 0.58331335 | Q32: =ACOS(IF(P32=0,0,MAX(-1,MIN(1,3*K32/(J32*P32))))) -> 0 | R32: =P32*COS(Q32/3) -> 0.58331335 | S32: =IF(L32<0,R32,O32)-G32/3 -> 0.94528562 | T32: =IFERROR((((S32+G32)*S32+H32)*S32+I32)/((3*S32+2*G32)*S32+H32),0) -> -9.7045678e-17 | U32: =IF(ABS(T32)<0.1*ABS(S32),S32-T32,S32) -> 0.94528562 | V32: =IFERROR((((U32+G32)*U32+H32)*U32+I32)/((3*U32+2*G32)*U32+H32),0) -> 0 | W32: =IF(ABS(V32)<0.1*ABS(U32),U32-V32,U32) -> 0.94528562 | X32: =-I32/W32 -> 0.0090036998 | Y32: =(H32-X32)/W32 -> 0.12277146 | Z32: =Y32^2-4*X32 -> -0.020941968 | AA32: =IF(Z32>=0,(Y32+IF(Y32>=0,1,-1)*SQRT(Z32))/2,0) -> 0 | AB32: =IF(AND(Z32>=0,AA32<>0),MIN(AA32,X32/AA32),-1) -> -1 | AC32: =AND(Z32>=0,AB32>F32,ABS(W32-AB32)>=0.00005*MAX(W32,AB32)) -> 0 | AD32: =IF(AC32,IFERROR((((AB32+G32)*AB32+H32)*AB32+I32)/((3*AB32+2*G32)*AB32+H32),0),0) -> 0 | AE32: =IF(ABS(AD32)<0.1*ABS(AB32),AB32-AD32,AB32) -> -1 | AF32: =IF(AC32,IFERROR((((AE32+G32)*AE32+H32)*AE32+I32)/((3*AE32+2*G32)*AE32+H32),0),0) -> 0 | AG32: =IF(ABS(AF32)<0.1*ABS(AE32),AE32-AF32,AE32) -> -1 | AH32: =IF(AC32,MAX(W32,AG32),W32) -> 0.94528562 | AI32: =IF(AC32,MIN(W32,AG32),-1) -> -1 | AJ32: =AH32-1-LN(AH32-F32)-E32/AH32 -> -0.056022961 | AK32: =IF(AC32,AI32-1-LN(AI32-F32)-E32/AI32,0) -> 0 | AL32: =IF(AC32,AK32-AJ32,0) -> 0 | AM32: =IF(AC32,AL32>0,AH32*'EOS steps'!$D$13*'EOS steps'!$D$7/D32>=$C$9) -> 1 | AN32: =IF(AC32,IF(AH32>AI32,D32*EXP(MAX(-50,MIN(50,AL32/(AH32-AI32)))),D32),IF(AM32,D32*$C$14,D32/$C$14)) -> 3670968.2 | AO32: =IF(AM32,D32,B32) -> 4609995.5 | AP32: =IF(AM32,C32,D32) -> 4610000 | AQ32: =IF(AC32,IF(AND(AN32>=AO32*(1-0.000000001),AN32<=AP32*(1+0.000000001)),AN32,SQRT(AO32*AP32)),IF(AND(AO32>$C$11,AP32<$C$12),SQRT(AO32*AP32),IF(AND(AN32>=AO32*(1-0.000000001),AN32<=AP32*(1+0.000000001)),AN32,SQRT(AO32*AP32)))) -> 4609997.7
